BEGIN:VCALENDAR
VERSION:2.0
PRODID:-//AENJ - ECPv6.15.1.1//NONSGML v1.0//EN
CALSCALE:GREGORIAN
METHOD:PUBLISH
X-WR-CALNAME:AENJ
X-ORIGINAL-URL:https://aenj.org
X-WR-CALDESC:Events for AENJ
REFRESH-INTERVAL;VALUE=DURATION:PT1H
X-Robots-Tag:noindex
X-PUBLISHED-TTL:PT1H
BEGIN:VTIMEZONE
TZID:UTC
BEGIN:STANDARD
TZOFFSETFROM:+0000
TZOFFSETTO:+0000
TZNAME:UTC
DTSTART:20220101T000000
END:STANDARD
END:VTIMEZONE
BEGIN:VEVENT
DTSTART;TZID=UTC:20230807T000000
DTEND;TZID=UTC:20230814T000000
DTSTAMP:20260424T041058
CREATED:20221202T060033Z
LAST-MODIFIED:20221202T060033Z
UID:2214-1691366400-1691971200@aenj.org
SUMMARY:Virtual Event Book Club
DESCRIPTION:Aug. 7 & 14: Virtual Event Book Club
URL:https://aenj.org/event/virtual-event-book-club/
END:VEVENT
BEGIN:VEVENT
DTSTART;TZID=UTC:20230707T150000
DTEND;TZID=UTC:20230710T150000
DTSTAMP:20260424T041058
CREATED:20200717T214456Z
LAST-MODIFIED:20221011T212628Z
UID:1490-1688742000-1689001200@aenj.org
SUMMARY:Team East - NAEA Regional Leadership Conference
DESCRIPTION:Princeton\, NJ \nHotel: Nassau Inn \nVisit our event website for updates and information!
URL:https://aenj.org/event/team-east-naea-regional-leadership-conference/
END:VEVENT
BEGIN:VEVENT
DTSTART;VALUE=DATE:20230706
DTEND;VALUE=DATE:20230710
DTSTAMP:20260424T041058
CREATED:20221202T055853Z
LAST-MODIFIED:20230424T175346Z
UID:2213-1688601600-1688947199@aenj.org
SUMMARY:TEAM EAST
DESCRIPTION:July 6-9: Team East\, Princeton \nThis is event is focused on leadership and will address topics related to NAEA business. If you are not currently involved with the AENJ board but are interested in learning more about the event\, please contact Lora Marie Durr at ldurr@aenj.org \nFor more information\, click HERE
URL:https://aenj.org/event/team-east/
END:VEVENT
BEGIN:VEVENT
DTSTART;VALUE=DATE:20230630
DTEND;VALUE=DATE:20230701
DTSTAMP:20260424T041058
CREATED:20221202T060532Z
LAST-MODIFIED:20221202T063333Z
UID:2220-1688083200-1688169599@aenj.org
SUMMARY:ARTBEAT Magazine Articles
DESCRIPTION:June 30: ARTBEAT Magazine Articles
URL:https://aenj.org/event/artbeat-magazine-articles/
END:VEVENT
BEGIN:VEVENT
DTSTART;TZID=UTC:20230610T100000
DTEND;TZID=UTC:20230729T170000
DTSTAMP:20260424T041058
CREATED:20221202T055451Z
LAST-MODIFIED:20230509T025024Z
UID:2211-1686391200-1690650000@aenj.org
SUMMARY:Members Exhibition\, Rowan University Art Gallery\, Glassboro
DESCRIPTION:Members Exhibition Artwork Drop-off at Gallery (address below): May 30 – Fri June 2 (between 1:00-5:00 pm) \nMembers Exhibition Reception\, RU Art Gallery: June 10\, 4:00-5:00 pm \nLocation: Rowan University Art Gallery\, 301 West High St.\, Glassboro\, NJ\n\nPlease complete this Members’ Intake Form ahead of the drop-off.\n\n 
URL:https://aenj.org/event/members-exhibition-artwork-drop-off-glassboro/
END:VEVENT
BEGIN:VEVENT
DTSTART;VALUE=DATE:20230602
DTEND;VALUE=DATE:20230603
DTSTAMP:20260424T041058
CREATED:20221202T060353Z
LAST-MODIFIED:20230305T224217Z
UID:2219-1685664000-1685750399@aenj.org
SUMMARY:Governors Arts Awards\, Trenton
DESCRIPTION:Governors Arts Awards\, Trenton \n  \nFor the most current information\, visit: https://www.njgaae.org \n 
URL:https://aenj.org/event/governors-arts-awards-trenton/
END:VEVENT
BEGIN:VEVENT
DTSTART;VALUE=DATE:20230506
DTEND;VALUE=DATE:20230507
DTSTAMP:20260424T041058
CREATED:20221202T055303Z
LAST-MODIFIED:20230425T205024Z
UID:2210-1683331200-1683417599@aenj.org
SUMMARY:Workshop & Tour at Montclair Art Museum
DESCRIPTION:May 6: Workshop & Tour at Montclair Art Museum \nStay tuned for more information
URL:https://aenj.org/event/workshop-tour-at-montclair-art-museum/
END:VEVENT
BEGIN:VEVENT
DTSTART;VALUE=DATE:20230423
DTEND;VALUE=DATE:20230424
DTSTAMP:20260424T041058
CREATED:20221202T052228Z
LAST-MODIFIED:20221202T052600Z
UID:2203-1682208000-1682294399@aenj.org
SUMMARY:NJPAC Spring Student Exhibition Reception
DESCRIPTION:NJPAC Spring 2023 \nAENJ members who have been notified that their student’s artwork has been selected for the  NJPAC Spring Student Art Exhibition are encouraged to attend and invite their building administration to the exhibition reception honoring the selected student artists and their creative talents. \nContact Mira for more information on where to help at Advocacy.Outreach@AENJ.org \nApproximately thirty artworks are to be prominently displayed in the gallery at the entrance of the Victoria Theater. \nImportant Dates for this Exhibition \nMar. 1: Submission Deadline\nMar. 12: Installation\nApr. 23: Reception \nCLICK HERE FOR MORE INFORMATION \nContact Mira for questions at Advocacy.Outreach@AENJ.org
URL:https://aenj.org/event/njpac-spring-student-exhibition-reception/
END:VEVENT
BEGIN:VEVENT
DTSTART;TZID=UTC:20230422T090000
DTEND;TZID=UTC:20230422T130000
DTSTAMP:20260424T041058
CREATED:20221202T055118Z
LAST-MODIFIED:20230207T221119Z
UID:2209-1682154000-1682168400@aenj.org
SUMMARY:Encaustic Workshop
DESCRIPTION:Apr. 22: Encaustic Workshop\, Pennsville \nJoin Art Educators of New Jersey and Sandra Koberlein Studios at “ENCAUSTIC INTRO\, MONO-PRINTING AND MORE.”\nNo experience is necessary. Open to students of all levels. For more information or to register\, click below.
URL:https://aenj.org/event/encaustic-workshop/
END:VEVENT
BEGIN:VEVENT
DTSTART;VALUE=DATE:20230415
DTEND;VALUE=DATE:20230416
DTSTAMP:20260424T041058
CREATED:20221202T060233Z
LAST-MODIFIED:20221202T060314Z
UID:2217-1681516800-1681603199@aenj.org
SUMMARY:College/Grad. Scholarships/Grants/Awards
DESCRIPTION:Apr. 15: College/Grad. Scholarships/Grants/Awards
URL:https://aenj.org/event/college-grad-scholarships-grants-awards/
END:VEVENT
BEGIN:VEVENT
DTSTART;VALUE=DATE:20230401
DTEND;VALUE=DATE:20230402
DTSTAMP:20260424T041058
CREATED:20221202T060145Z
LAST-MODIFIED:20221202T060145Z
UID:2216-1680307200-1680393599@aenj.org
SUMMARY:Conference Presentation/Workshop Proposals
DESCRIPTION:Apr. 1: Conference Presentation/Workshop Proposals
URL:https://aenj.org/event/conference-presentation-workshop-proposals/
END:VEVENT
BEGIN:VEVENT
DTSTART;TZID=UTC:20230318T090000
DTEND;TZID=UTC:20230318T153000
DTSTAMP:20260424T041058
CREATED:20221202T054244Z
LAST-MODIFIED:20230317T214427Z
UID:2208-1679130000-1679153400@aenj.org
SUMMARY:Spring Symposium\, Rowan Univ.\, Glassboro
DESCRIPTION:Mar. 18: Spring Symposium\, Rowan Univ.\, Glassboro \n \n \n  \nCLICK HERE TO DOWNLOAD THE EVENT Map of Rowan \nCLICK HERE TO DOWNLOAD THE SCHEDULE FOR  2023 – Spring Symposium Grid
URL:https://aenj.org/event/spring-symposium-rowan-univ-glassboro/
END:VEVENT
BEGIN:VEVENT
DTSTART;TZID=UTC:20230317T140000
DTEND;TZID=UTC:20230317T160000
DTSTAMP:20260424T041058
CREATED:20221202T053146Z
LAST-MODIFIED:20230305T003824Z
UID:2205-1679061600-1679068800@aenj.org
SUMMARY:YAM STATE HOUSE CEREMONY
DESCRIPTION:YOUTH ART MONTH (YAM) \nMar. 17:  State House Ceremony\, Trenton \nFeb. TBD: YAM State Show set-up\, Trenton \nFeb. 4: All Artwork \nJan. 14: YAM Design Contest Entries due YAM County/State/National Submissions \nCLICK YAM FOR YAM STATE HOUSE CEREMONY DETAILS \nQUESTIONS? Contact State YAM Co-Chairs Kelly Wenz & Danielle Davis yam@aenj.org
URL:https://aenj.org/event/march-is-youth-art-month-yam-2/
LOCATION:NJ State House\, Trenton NJ\, 125 W. State Street\, Trenton\, NJ\, 08608\, United States
ORGANIZER;CN="Kelly Wenz%2C Danielle Davis%2C State YAM Co-chairs":MAILTO:YAM@aenj.org
END:VEVENT
BEGIN:VEVENT
DTSTART;VALUE=DATE:20230312
DTEND;VALUE=DATE:20230313
DTSTAMP:20260424T041058
CREATED:20221202T051711Z
LAST-MODIFIED:20221202T051852Z
UID:2202-1678579200-1678665599@aenj.org
SUMMARY:NJPAC Spring Student Exhibition Installation
DESCRIPTION:NJPAC Spring 2023 \nAENJ members who have been notified that their student’s artwork has been selected for the  NJPAC Late-Winter Student Art Exhibition are encouraged to volunteer to help install that show. \nThe more hands\, the quicker the process! Contact Mira for more information on where to help at Advocacy.Outreach@AENJ.org \nApproximately thirty artworks are to be prominently displayed in the gallery at the entrance of the Victoria Theater. \nImportant Dates for this Exhibition \nMar. 1: Submission Deadline\nMar. 12: Installation\nApr. 23: Reception \nCLICK HERE FOR MORE INFORMATION \nContact Mira for questions at Advocacy.Outreach@AENJ.org
URL:https://aenj.org/event/njpac-spring-student-exhibition-installation/
END:VEVENT
BEGIN:VEVENT
DTSTART;VALUE=DATE:20230222
DTEND;VALUE=DATE:20230223
DTSTAMP:20260424T041058
CREATED:20221202T060108Z
LAST-MODIFIED:20221202T060108Z
UID:2215-1677024000-1677110399@aenj.org
SUMMARY:High School Scholarships
DESCRIPTION:Feb. 22: High School Scholarships
URL:https://aenj.org/event/high-school-scholarships/
END:VEVENT
BEGIN:VEVENT
DTSTART;VALUE=DATE:20230212
DTEND;VALUE=DATE:20230213
DTSTAMP:20260424T041058
CREATED:20221202T051255Z
LAST-MODIFIED:20221202T051255Z
UID:2198-1676160000-1676246399@aenj.org
SUMMARY:NJPAC Late-Winter Student Art Exhibition Reception
DESCRIPTION:NJPAC LATE-WINTER 2023 \nAENJ members who have been notified that their students artwork  has been select for the  NJPAC Late-Winter Student Art Exhibition are encouraged to attend and invite their building administration to the exhibition reception honoring the selected student artists and their creative talents. \nContact Mira for more information on where to help at Advocacy.Outreach@AENJ.org \nApproximately thirty artworks are to be prominently displayed in the gallery at the entrance of the Victoria Theater. \nImportant Dates for this Exhibition \nJan. 1: Submission Deadline\nJan. 15: Installation\nFeb. 12: Reception \nCLICK HERE FOR MORE INFORMATION \nContact Mira for questions at Advocacy.Outreach@AENJ.org
URL:https://aenj.org/event/njpac-late-winter-student-art-exhibition-reception/
END:VEVENT
BEGIN:VEVENT
DTSTART;VALUE=DATE:20230204
DTEND;VALUE=DATE:20230205
DTSTAMP:20260424T041058
CREATED:20221202T054157Z
LAST-MODIFIED:20230121T204523Z
UID:2207-1675468800-1675555199@aenj.org
SUMMARY:Virtual Event with the Phillips Collection
DESCRIPTION:Feb. 4: Virtual Event with the Phillips Collection \n 
URL:https://aenj.org/event/virtual-event-with-the-phillips-collection/
END:VEVENT
BEGIN:VEVENT
DTSTART;VALUE=DATE:20230201
DTEND;VALUE=DATE:20230202
DTSTAMP:20260424T041058
CREATED:20221202T050111Z
LAST-MODIFIED:20221202T051430Z
UID:2196-1675209600-1675295999@aenj.org
SUMMARY:NJPAC Spring Student Exhibition Submission Deadline
DESCRIPTION:NJPAC SPRING 2023\nMar. 1: Submission Deadline\nMar. 12: Installation\nApr. 23: Reception \nAENJ members are encouraged to submit their student’s artwork for our curated NJPAC Student Art Exhibition. \nApproximately thirty artworks are to be prominently displayed in the gallery at the entrance of the Victoria Theater. \nCLICK HERE FOR MORE INFORMATION \nContact Mira with questions Advocacy.Outreach@AENJ.org
URL:https://aenj.org/event/njpac-spring-student-exhibition/
END:VEVENT
BEGIN:VEVENT
DTSTART;VALUE=DATE:20230121
DTEND;VALUE=DATE:20230122
DTSTAMP:20260424T041058
CREATED:20221202T053730Z
LAST-MODIFIED:20221216T200135Z
UID:2206-1674259200-1674345599@aenj.org
SUMMARY:Annual Breakfast & a Workshop
DESCRIPTION:Jan. 21: Breakfast & a Workshop at Grounds for Sculpture Hamilton\, NJ \nStay tuned for more information
URL:https://aenj.org/event/annual-breakfast-a-workshop/
END:VEVENT
BEGIN:VEVENT
DTSTART;VALUE=DATE:20230115
DTEND;VALUE=DATE:20230116
DTSTAMP:20260424T041058
CREATED:20221202T050953Z
LAST-MODIFIED:20221202T051119Z
UID:2197-1673740800-1673827199@aenj.org
SUMMARY:NJPAC Late-Winter Student Art Exhibition Installation
DESCRIPTION:NJPAC LATE-WINTER 2023 \nAENJ members who have been notified that their students artwork  has been select for the  NJPAC Late-Winter Student Art Exhibition are encouraged to volunteer to help install that show. \nThe more hands the quicker the process! Contact Mira for more information on where to help at Advocacy.Outreach@AENJ.org \nApproximately thirty artworks are to be prominently displayed in the gallery at the entrance of the Victoria Theater. \n  \nImportant Dates for this Exhibition \nJan. 1: Submission Deadline\nJan. 15: Installation\nFeb. 12: Reception \nCLICK HERE FOR MORE INFORMATION \nContact Mira for questions at Advocacy.Outreach@AENJ.org
URL:https://aenj.org/event/njpac-late-winter-student-art-exhibition-submission-installation/
END:VEVENT
BEGIN:VEVENT
DTSTART;VALUE=DATE:20230114
DTEND;VALUE=DATE:20230115
DTSTAMP:20260424T041058
CREATED:20221202T052847Z
LAST-MODIFIED:20221202T052847Z
UID:2204-1673654400-1673740799@aenj.org
SUMMARY:MARCH IS YOUTH ART MONTH (YAM)
DESCRIPTION:YOUTH ART MONTH (YAM) \nJan. 14: YAM Design Contest Entries due YAM County/State/National Submissions \nFeb. 4: All Artwork\nFeb. TBD: YAM State Show Set-up. Trenton \nMar. TBD: State House Reception\, Trenton \nCLICK HERE FOR MORE INFORMATION
URL:https://aenj.org/event/march-is-youth-art-month-yam/
END:VEVENT
BEGIN:VEVENT
DTSTART;VALUE=DATE:20230101
DTEND;VALUE=DATE:20230102
DTSTAMP:20260424T041058
CREATED:20221202T050010Z
LAST-MODIFIED:20221202T050244Z
UID:2195-1672531200-1672617599@aenj.org
SUMMARY:NJPAC Late-Winter Student Art Exhibition Submission Deadline
DESCRIPTION:NJPAC LATE-WINTER 2023 \nAENJ members are encouraged to submit their student’s artwork for our curated NJPAC Student Art Exhibition. \nApproximately thirty artworks are to be prominently displayed in the gallery at the entrance of the Victoria Theater. \nImportant Dates for this Exhibition \nJan. 1: Submission Deadline\nJan. 15: Installation\nFeb. 12: Reception \nCLICK HERE FOR MORE INFORMATION \nContact Mira for questions at Advocacy.Outreach@AENJ.org
URL:https://aenj.org/event/njpac-student-art-exhibition/
END:VEVENT
BEGIN:VEVENT
DTSTART;TZID=UTC:20221210T090000
DTEND;TZID=UTC:20221210T150000
DTSTAMP:20260424T041058
CREATED:20220823T033447Z
LAST-MODIFIED:20221202T045143Z
UID:2170-1670662800-1670684400@aenj.org
SUMMARY:Say it With Clay: Clay Ballon Vessels
DESCRIPTION:This event is intended for Art Educators K-12. Attendees will learn to make vessels using the ballon technique and create one large vessel and one small vessel of their own as a reference for lessons that can be adapted for their own classes. Please note that attendees will return approximately 3 weeks after the event to pick up their fired sculptures.
URL:https://aenj.org/event/say-it-with-clay-clay-ballon-vessels/
LOCATION:Say It With Clay\, 644 Atlantic Avenue\, Collingswood\, NJ\, 08108\, United States
END:VEVENT
BEGIN:VEVENT
DTSTART;TZID=UTC:20221112T100000
DTEND;TZID=UTC:20221112T130000
DTSTAMP:20260424T041058
CREATED:20221018T060750Z
LAST-MODIFIED:20221018T060947Z
UID:2191-1668247200-1668258000@aenj.org
SUMMARY:Lori Field: Tiger Tarot at the Montclair Art Museum
DESCRIPTION:For more information about this event or to register\, CLICK HERE
URL:https://aenj.org/event/lori-field-tiger-tarot-at-the-montclair-art-museum/
END:VEVENT
BEGIN:VEVENT
DTSTART;VALUE=DATE:20221012
DTEND;VALUE=DATE:20221015
DTSTAMP:20260424T041058
CREATED:20210621T210229Z
LAST-MODIFIED:20220403T003432Z
UID:1943-1665532800-1665791999@aenj.org
SUMMARY:Together In Art - Fall 2022 Conference
DESCRIPTION:Go to our conference event page https://aenj.org/conference-2022/
URL:https://aenj.org/event/together-in-art-fall-2022-conference/
LOCATION:Ocean Place Resort & Spa\, 1 Ocean Blvd\, Long Branch\, NJ\, United States
END:VEVENT
BEGIN:VEVENT
DTSTART;TZID=UTC:20220815T160000
DTEND;TZID=UTC:20220815T173000
DTSTAMP:20260424T041058
CREATED:20220712T211112Z
LAST-MODIFIED:20220712T211318Z
UID:2158-1660579200-1660584600@aenj.org
SUMMARY:AENJ Summer Book Club: Teaching with the Heart in Mind (Meeting 2)
DESCRIPTION:Join the Art Educators of New Jersey for our 2022 Summer Book Club featuring “Teaching with the HEART in Mind” by author Lorea Martinez\, Ph.D. \n “A comprehensive roadmap to understanding the psychology of emotions\, relationships\, and adversity in learning\, while equipping you to teach SEL skills and develop social and emotional intelligence for yourself and your students. Full of practical techniques for educators of all subjects\, this is your guide for transforming your classroom through essential SEL principles.” \nWHEN: August 1\, 2022 at 4:00 PM – 5:30 PM and August 15\, 2022 at 4:00 – 5:30 PM \nHOW: Read the book on your own time and attend 2 small-Zoom group discussion sessions (August 1st and August 15th) from the comfort of your own home.  The Zoom link will be shared with registrants the day within the  24hrs of the event. \nEach session will be 1.5 hours long for a total of 3 hours of earned professional development. \n 
URL:https://aenj.org/event/aenj-summer-book-club-teaching-with-the-heart-in-mind-2/
END:VEVENT
BEGIN:VEVENT
DTSTART;TZID=UTC:20220801T160000
DTEND;TZID=UTC:20220801T173000
DTSTAMP:20260424T041058
CREATED:20220712T210312Z
LAST-MODIFIED:20220712T210729Z
UID:2156-1659369600-1659375000@aenj.org
SUMMARY:AENJ Summer Book Club: Teaching with the Heart in Mind
DESCRIPTION:Join the Art Educators of New Jersey for our 2022 Summer Book Club featuring “Teaching with the HEART in Mind” by author Lorea Martinez\, Ph.D. \n “A comprehensive roadmap to understanding the psychology of emotions\, relationships\, and adversity in learning\, while equipping you to teach SEL skills and develop social and emotional intelligence for yourself and your students. Full of practical techniques for educators of all subjects\, this is your guide for transforming your classroom through essential SEL principles.” \nWHEN: August 1\, 2022 at 4:00 PM – 5:30 PM and August 15\, 2022 at 4:00 – 5:30 PM \nHOW: Read the book on your own time and attend 2 small-Zoom group discussion sessions (August 1st and August 15th) from the comfort of your own home.  The Zoom link will be shared with registrants the day within the  24hrs of the event. \nEach session will be 1.5 hours long for a total of 3 hours of earned professional development. \n 
URL:https://aenj.org/event/aenj-summer-book-club-teaching-with-the-heart-in-mind/
END:VEVENT
BEGIN:VEVENT
DTSTART;TZID=UTC:20220707T090000
DTEND;TZID=UTC:20220707T130000
DTSTAMP:20260424T041058
CREATED:20220606T182208Z
LAST-MODIFIED:20220606T185444Z
UID:2139-1657184400-1657198800@aenj.org
SUMMARY:2022 Encaustic Workshop
DESCRIPTION:2022 Encaustic Intro. to Mono-Printing\n\n\n\n\n\n\n\n\n\n\n\n\n\n\n\n\n\n\n\n  \nJoin Art Educators of New Jersey and Sandra Koberlein Studios for a Summer workshop\, “ENCAUSTIC INTRO\, MONO-PRINTING AND MORE”\nNo experience is necessary.\nThis workshop is designed for the beginner encaustic enthusiast. Experimentation with India Ink\, mono-printing\, and painting with encaustic will be explored. A dream class for calligraphy artists and mark-makers! Participants will create several printed papers and three paintings to take home. \nThis hands-on workshop includes ALL materials.     Students must be 18 years of age or accompanied by an adult. \nPROFESSIONAL DEVELOPMENT HOURS: 4\n*There will not be a lunch break for this event. Please plan accordingly as snacks and lunch will be on your own. \nThe capacity for this workshop is set to 12 attendees. \n\n\n\n\n\n\n\n\n\n\n\n\nThis event will be live and in person. It will not be recorded and it is not refundable. \n\n\n\n\n\n\n\n\n\n\n\n  \n 
URL:https://aenj.org/event/2022-encaustic-workshop/
END:VEVENT
BEGIN:VEVENT
DTSTART;TZID=UTC:20220514T100000
DTEND;TZID=UTC:20220514T130000
DTSTAMP:20260424T041058
CREATED:20220314T013947Z
LAST-MODIFIED:20220314T014241Z
UID:2073-1652522400-1652533200@aenj.org
SUMMARY:Celebrating Many Voices: Educator Workshop at the Montclair Art Museum
DESCRIPTION: Saturday\, May 14\, 2022 from 10:00 AM-1:00 PM \nJoin Art Educators of New Jersey and the Montclair Art Musuem this spring at “Celebrating Many Voices.” \nIn this workshop\, we will discuss how to bring anti-racism into the art classroom through observation and dialogue about artwork that touches on issues of race and social justice. Teachers will be introduced to established and emerging artists in the collection who are Black\, Indigenous\, and People of Color. \nBe prepared for an enriching one hour museum tour and two hour hands-on session filled with discussion\, reflection and opportunities to ask questions. \n  \nPROFESSIONAL DEVELOPMENT HOURS: 3 \n*There will not be a lunch break for this event. Please plan accordingly as snacks and lunch will be on your own. \nSPACE is limited to the first 15 registrants! \n \nMontclair Art Museum\n\n\n3 South Mountain Avenue\nMontclair\, NJ 07042
URL:https://aenj.org/event/celebrating-many-voices-educator-workshop-at-the-montclair-art-museum/
END:VEVENT
BEGIN:VEVENT
DTSTART;TZID=UTC:20220415T200000
DTEND;TZID=UTC:20220415T200000
DTSTAMP:20260424T041058
CREATED:20211017T175806Z
LAST-MODIFIED:20220116T052448Z
UID:2007-1650052800-1650052800@aenj.org
SUMMARY:AENJ Book Club
DESCRIPTION:Book Club “Teaching With the Heart in Mind”: 2 meetings (1st\, 15th) Virtual
URL:https://aenj.org/event/aenj-book-club-2/
END:VEVENT
END:VCALENDAR